BEGIN:VCALENDAR
PRODID:NingEventWidget-v1
VERSION:2.0
METHOD:PUBLISH
BEGIN:VEVENT
UID:4320450:Event:31240
DTSTAMP:20260425T173503Z
SUMMARY:Swing Into Spring
DESCRIPTION:Dust off your dancing shoes and hop out of winter with the
  Society Hill Dance Academy’s Swing into Spring! Live music will be 
 played by local swing band The Jump with entertainment provided by SHD
 A instructors and students. Beverages and lite beverages will be provi
 ded along with a 50/50 raffle and silent auction. A portion of all the
  proceeds will be donated to the Philadelphia Dance Foundation, which 
 helps students in Philadelphia Public Schools learn the art of social 
 dance.\n\nFor more information visit http://phillytodo.com/events/swin
 g-into-spring
DTSTART:20130427T000000Z
DTEND:20130427T030000Z
CATEGORIES:dance
LOCATION:Society Hill Dance Academy
WEBSITE:
URL:
CONTACT:
ORGANIZER;CN="Skai Blue Media":http://phillytodo.com/profile/SkaiBlueM
 edia
ATTACH;FMTTYPE="image/jpeg":
ATTENDEE;ROLE=REQ-PARTICIPANT;PARTSTAT=ACCEPTED;RSVP=TRUE;CN="Skai Blu
 e Media":http://phillytodo.com/profile/SkaiBlueMedia
END:VEVENT
END:VCALENDAR
