BEGIN:VCALENDAR
PRODID:NingEventWidget-v1
VERSION:2.0
METHOD:PUBLISH
BEGIN:VEVENT
UID:4320450:Event:39071
DTSTAMP:20260425T112617Z
SUMMARY:Sweetheart Skate
DESCRIPTION:It may be cold this Valentine’s Day, but ice skating nex
 t to your sweetheart at Blue Cross RiverRink Winterfest at Penn’s La
 nding is sure to keep you warm! Blue Cross RiverRink Winterfest is a p
 opular destination every year during this romantic holiday during all 
 THREE sessions on the evening of Saturday, February 14, 2015. Bring y
 our special someone down for a night of ice skating, cuddling by the f
 ireplace and fire pits, enjoying a special light display and delicious
  food and drinks provided by the Garces Group.\n\nEach Valentine’s D
 ay party includes free photos, and complimentary flowers and chocolate
 s.  A DJ will host the evening, allowing guests to skate to their fa
 vorite love songs with their significant other.  Tickets for Sweethe
 art Skate are $20 per person for each session and include admission a
 nd skate rental. (Advance tickets are strongly encouraged as this eve
 nt has sold out in the past.)\n\nFor more information visit http://phi
 llytodo.com/events/sweetheart-skate-1
DTSTART:20150215T020000Z
DTEND:20150215T033000Z
CATEGORIES:ice, skating, family, friendly, music, outdoor, activity, d
 ate, night, valentines, day
LOCATION:Blue Cross RiverRink
WEBSITE:http://www.delawareriverwaterfront.com/places/blue-cross-river
 rink
URL:http://www.delawareriverwaterfront.com/places/blue-cross-riverrink
CONTACT:215-925-RINK
ORGANIZER;CN="Delaware River Waterfront Corp.":http://phillytodo.com/p
 rofile/DelawareRiverWaterfrontCorp
ATTACH;FMTTYPE="image/jpeg":http://storage.ning.com/topology/rest/1.0/
 file/get/3054982801?profile=original
ATTENDEE;ROLE=REQ-PARTICIPANT;PARTSTAT=ACCEPTED;RSVP=TRUE;CN="Delaware
  River Waterfront Corp.":http://phillytodo.com/profile/DelawareRiverWa
 terfrontCorp
END:VEVENT
END:VCALENDAR
