BEGIN:VCALENDAR
PRODID:NingEventWidget-v1
VERSION:2.0
METHOD:PUBLISH
BEGIN:VEVENT
UID:4320450:Event:38753
DTSTAMP:20260425T142626Z
SUMMARY:Sweet & Savory: Battle Against Hunger
DESCRIPTION:YOU DECIDEwho will earn bragging rights asTHE BEST culinar
 y student in Philadelphia\nJoin us for an epic battle as we judge the 
 best appetizers and best desserts made by culinary arts students in t
 he Philadelphia area.\n$20 admission includes food competition, one fr
 ee beer or wine ticket, and access to the National Hunger and Homeles
 sness Awareness Week premiere of Perseverance with Dignity, a short 
 documentary film about street homelessness in Philadelphia.\nGet your 
 tickets at http://bethesda-project.ticketleap.com/sweetandsavory/\n\n
 For more information visit http://phillytodo.com/events/sweet-savory-b
 attle-against-hunger
DTSTART:20141117T230000Z
DTEND:20141118T010000Z
CATEGORIES:food, tasting, and, film, premiere
LOCATION:International House Philadelphia
WEBSITE:http://www.ihousephilly.org
URL:http://www.ihousephilly.org
CONTACT:215-985-1600
ORGANIZER;CN="Bethesda Project":http://phillytodo.com/profile/Bethesda
 Project
ATTACH;FMTTYPE="image/jpeg":http://storage.ning.com/topology/rest/1.0/
 file/get/3054980986?profile=original
ATTENDEE;ROLE=REQ-PARTICIPANT;PARTSTAT=ACCEPTED;RSVP=TRUE;CN="Bethesda
  Project":http://phillytodo.com/profile/BethesdaProject
END:VEVENT
END:VCALENDAR
