BEGIN:VCALENDAR
PRODID:NingEventWidget-v1
VERSION:2.0
METHOD:PUBLISH
BEGIN:VEVENT
UID:4320450:Event:3826
DTSTAMP:20260425T155042Z
SUMMARY:sweeneys THINK PINK FLOYD XMAS PARTY
DESCRIPTION:1 AMAZING LIVE SHOW-THINK PINK FLOYDIf Pink Floyd is your 
 thing, you must seek out THINK PINK FLOYD~~www.thinkpinkfloyd.com http
 ://www.facebook.com/tribute.thinkpinkfloydor www.facebook.com/pages/1-
 AMAZING-SHOW-THINK-PINK-FLOYD/478666210533 (this is our facebook fan p
 age please join us here)SHINE ON~~!~The True PINK FLOYD experience THI
 NK PINK FLOYD.Experience the breathtaking performances of the band tha
 t has become known as THINK PINK FLOYD!!!!!!\n\nFor more information v
 isit http://phillytodo.com/events/sweeneys-think-pink-floyd-xmas
DTSTART:20101219T020000Z
DTEND:20101219T070000Z
CATEGORIES:concert
LOCATION:SWEENEY'S SALOON
WEBSITE:
URL:
CONTACT:215 677 3177
ORGANIZER;CN="think pink floyd":http://phillytodo.com/profile/thinkpin
 kfloyd
ATTACH;FMTTYPE="image/jpeg":http://storage.ning.com/topology/rest/1.0/
 file/get/3054951470?profile=original
ATTENDEE;ROLE=REQ-PARTICIPANT;PARTSTAT=ACCEPTED;RSVP=TRUE;CN="think pi
 nk floyd":http://phillytodo.com/profile/thinkpinkfloyd
END:VEVENT
END:VCALENDAR
