BEGIN:VCALENDAR
PRODID:NingEventWidget-v1
VERSION:2.0
METHOD:PUBLISH
BEGIN:VEVENT
UID:4320450:Event:47176
DTSTAMP:20260425T123411Z
SUMMARY:Sustainable Textile and Dye Workshop
DESCRIPTION:Learn how to get more out of your wardrobe and used fabric
 s! We’ll explore upcycling and re-design with weaving, knitting, dye
 ing techniques, alteration and repair. Our sustainable fashion expert,
  Kelly Cobb will be demonstrating a variety of techniques from her mob
 ile studio; weaving on a loom, using rope making equipment, sewing mac
 hine and dye station. This is a great workshop for looking to reduce w
 aste, as well as anyone curious about working with textiles.\nEveryone
  will get to create and experiment in an open studio style. We’ll al
 l get to do a dyeing project using the hapazome technique on recycled 
 scarves. Hapazome is a fun dye process that involves beating the color
  of a plant or flower into cloth! Bring a pair of old jeans, t-shirts 
 and old cloth shirt (like a button-down) to experiment with.\n- See mo
 re at: http://www.greensgrow.org/event/sustainable-textile-dye-worksho
 p/#sthash.8OWv8a10.dpufWorkshop\n\nFor more information visit http://p
 hillytodo.com/events/sustainable-textile-and-dye-workshop
DTSTART:20161001T160000Z
DTEND:20161001T180000Z
CATEGORIES:workshop
LOCATION:Greensgrow Farm
WEBSITE:http://www.greensgrow.org/event/sustainable-textile-dye-worksh
 op/
URL:http://www.greensgrow.org/event/sustainable-textile-dye-workshop/
CONTACT:(215) 427-2702
ORGANIZER;CN="Greensgrow Farms":http://phillytodo.com/profile/Greensgr
 owFarms
ATTACH;FMTTYPE="image/jpeg":http://storage.ning.com/topology/rest/1.0/
 file/get/3054998617?profile=original
ATTENDEE;ROLE=REQ-PARTICIPANT;PARTSTAT=ACCEPTED;RSVP=TRUE;CN="Greensgr
 ow Farms":http://phillytodo.com/profile/GreensgrowFarms
END:VEVENT
END:VCALENDAR
