BEGIN:VCALENDAR
PRODID:NingEventWidget-v1
VERSION:2.0
METHOD:PUBLISH
BEGIN:VEVENT
UID:4320450:Event:45055
DTSTAMP:20260425T143046Z
SUMMARY:Sustainable Business Network's GSI Partners to host first annu
 al \"Excellence in GSI Awards Ceremony\"
DESCRIPTION:SBN, in association with the GSI Partners, is hosting the 
 Excellence in GSI Awards Ceremony to celebrate green stormwater infras
 tructure projects in the Greater Philadelphia area and the partners wh
 o make these projects happen. Hundreds will gather to recognize the in
 novators who are blazing the trails in sustainable stormwater manageme
 nt in the region. Guests will enjoy signature cocktails and delectable
  food offerings from eco-friendly 12th Street Catering. \n\nFor more 
 information visit http://phillytodo.com/events/sustainable-business-ne
 twork-s-gsi-partners-to-host-first-annual
DTSTART:20160331T220000Z
DTEND:20160401T010000Z
CATEGORIES:award, ceremony
LOCATION:WHYY Public Media Commons
WEBSITE:
URL:
CONTACT:
ORGANIZER;CN=CashmanAssoc:http://phillytodo.com/profile/CashmanAssoc
ATTACH;FMTTYPE="image/jpeg":http://storage.ning.com/topology/rest/1.0/
 file/get/3054993701?profile=original
ATTENDEE;ROLE=REQ-PARTICIPANT;PARTSTAT=ACCEPTED;RSVP=TRUE;CN=CashmanAs
 soc:http://phillytodo.com/profile/CashmanAssoc
END:VEVENT
END:VCALENDAR
