BEGIN:VCALENDAR
PRODID:NingEventWidget-v1
VERSION:2.0
METHOD:PUBLISH
BEGIN:VEVENT
UID:4320450:Event:47009
DTSTAMP:20260425T161250Z
SUMMARY:Superheroines vs. Villainesses GayBINGO!
DESCRIPTION:Good vs. Evil has never looked so good. GayBINGO is the fa
 bulous, irreverent, campy, wildly popular monthly event that has been 
 entertaining Philadelphia audiences for 20 years!\nÂ \nCelebrating a d
 ifferent theme each month, hundreds of people pack the hall in Center 
 City's Gershman Y for a night of good old-fashioned Bingo! with a deci
 dedly different twist! GayBINGO is hosted by the infamous Bingo Verify
 ing Divas (BVDs!) - a wild bunch of drag queens who entertain the crow
 d with their wacky humor and always outrageous costumes.\nÂ \nGayBINGO
  promises to be an evening of unbridled fun, complete with ridiculous 
 musical numbers, hilarious drag queen antics, chances to win fabulous 
 prizes, and much, much more! Reserved seating tickets on the Bingo flo
 or are $30. General admission tickets in the balcony are $25. Tickets 
 for GayBINGO are on sale at http://www.aidsfundphilly.org/gaybingo.\nÂ
  \nGayBINGO was named Best of Philly (Gay Event), won PGN's Lambda Awa
 rd for Best Fundraiser, and was the subject of a popular WHYY document
 ary.Â  GayBINGO has also been featured in the LA Times, Washington Pos
 t, and USA Today.Â  GayBINGO events have raised over $3.5 million to d
 ate.\nÂ \nTweet this: Come out for 21st Season of @GayBINGOPhilly Have
  fun & raise $ for HIV/AIDS, tickets: http://bit.ly/1NNcQMt\n\nFor mor
 e information visit http://phillytodo.com/events/superheroines-vs-vill
 ainesses-gaybingo
DTSTART:20170312T000000Z
DTEND:20170312T030000Z
CATEGORIES:lgbt, nonprofit, fundraiser, bingo, gaybingo, aids, fund, d
 rag, queen
LOCATION:The Gershman Y
WEBSITE:http://www.gershmany.org/
URL:http://www.gershmany.org/
CONTACT:215-731-9255
ORGANIZER:Philadelphia AIDS Fund
ATTACH;FMTTYPE="image/jpeg":http://storage.ning.com/topology/rest/1.0/
 file/get/3054997198?profile=original
ATTENDEE;ROLE=REQ-PARTICIPANT;PARTSTAT=ACCEPTED;RSVP=TRUE;CN="Cari Fei
 ler Bender":http://phillytodo.com/profile/CariFeilerBender
END:VEVENT
END:VCALENDAR
