BEGIN:VCALENDAR
PRODID:NingEventWidget-v1
VERSION:2.0
METHOD:PUBLISH
BEGIN:VEVENT
UID:4320450:Event:24302
DTSTAMP:20260425T160312Z
SUMMARY:Super Sunday XLVI
DESCRIPTION:Super Sunday XLVI\nJoin in on the fun, tailgate with the c
 lan, and be a good fan!\nMeet Anthony Lombardi and Frank Buglione from
  Style Network's JerseyliciousÂ \nVIP Meet & Greet Package - $40 per t
 icketÂ \nOpen bar // Food Buffet // Photo Opportunities with the GuysÂ
  \n$3 Bud and Bud Light Bottles & Drafts // Open Bar Compliments of Bu
 d Light\nTo purchase tickets go toÂ http://bit.ly/ycUwjb\nSunday, Febr
 uary 5, 2012 // 2pm - 5pm\nHosted by: DJ Eddie Tully, McFadden's Resta
 urant Saloon, Citizens Bank Park, Budweiser, and Bud LightÂ \nCitizens
  Bank Park // Philadelphia PA, 19123 // 215-928-0630\nThis event will 
 be followed by the 2012 McFaddens Beer Tub Team Tryouts. Please visit 
 www.mcfaddensballpark.com for more information or to try out.Â \nAntho
 ny Lombardi will award the \"Lombardi Trophy\" to the best beer tub tr
 yout contestant.\nGuests are also invited to stay for the Super Sunday
  game starting at 5 pm. Watch the 2 best remaining teams in profession
 al football battle it out for the championship rights. Drink specials 
 starting at 5pm are included in the purchase of you Jerseylicious VIP 
 Meet and Greet Package.\n\nFor more information visit http://phillytod
 o.com/events/super-sunday-xlvi
DTSTART:20120205T190000Z
DTEND:20120205T220000Z
CATEGORIES:superbowl, open, bar, dj, meet, "&", greet, music
LOCATION:Citizens Bank Park
WEBSITE:http://bit.ly/ycUwjb
URL:http://bit.ly/ycUwjb
CONTACT:215-928-0630
ORGANIZER:The Hip Event
ATTACH;FMTTYPE="image/jpeg":http://storage.ning.com/topology/rest/1.0/
 file/get/3054958024?profile=original
ATTENDEE;ROLE=REQ-PARTICIPANT;PARTSTAT=ACCEPTED;RSVP=TRUE;CN="Giselle 
 Yankovich":http://phillytodo.com/profile/GiselleYankovich25
END:VEVENT
END:VCALENDAR
