BEGIN:VCALENDAR
PRODID:NingEventWidget-v1
VERSION:2.0
METHOD:PUBLISH
BEGIN:VEVENT
UID:4320450:Event:1983
DTSTAMP:20260425T124903Z
SUMMARY:Super Star Legends of Wrestling Showcase
DESCRIPTION:Join us Sunday October 24th at the Trump Taj Mahal for the
  1st Annual Super Star Legends of Wrestling Showcase with Superstars f
 rom the Ring of Honor, TNT, WWE like World Champion Kurt Angle, World 
 Champion \"DDP\" Diamond Dallas Page, Dan \"the BEAST\" Severn and man
 y more. Along with Breakfast with the Champions you get up and close a
 nd personal with these superstars for the entire day with Autographs a
 nd a Ton of Fun. Oh by the way this is part of the 9th Annual MMA and 
 Sports Extravaganza and you will find yourself surrounded with 16 diff
 erent sports competitions from Grappling, to Boxing, Karate and so muc
 h more. We also have the Kurt Angle Ultimate Teen Challenge designed f
 or Teems of 4 Teens to compete and earn cash and scholarships.\n\nFor 
 more information visit http://phillytodo.com/events/super-star-legends
 -of
DTSTART:20101024T040000Z
DTEND:20101025T035900Z
CATEGORIES:multi, sport, and, celebrity
LOCATION:Trump Taj Mahal Main Arena
WEBSITE:http://www.regonline.com/register/checkin.aspx?EventId=881006
URL:http://www.regonline.com/register/checkin.aspx?EventId=881006
CONTACT:609-923-2663
ORGANIZER:The MMA and Sports Extravaganza
ATTACH;FMTTYPE="image/jpeg":http://storage.ning.com/topology/rest/1.0/
 file/get/3054950356?profile=original
ATTENDEE;ROLE=REQ-PARTICIPANT;PARTSTAT=ACCEPTED;RSVP=TRUE;CN="james je
 fferson":http://phillytodo.com/profile/jamesjefferson
END:VEVENT
END:VCALENDAR
