BEGIN:VCALENDAR
PRODID:NingEventWidget-v1
VERSION:2.0
METHOD:PUBLISH
BEGIN:VEVENT
UID:4320450:Event:36599
DTSTAMP:20260425T133244Z
SUMMARY:Super Scooper All-You-Can-Eat Ice Cream Festival
DESCRIPTION:Come down to the Great Plaza at Penn’s Landing to make a
  sweet donation to support the Joshua Kahan Fund’s fight against ped
 iatric leukemia while enjoying scoops of family fun at the 15th Annual
  All-You-Can-Eat Ice Cream Festival at Penn's Landing.\nFriday 12pm-6p
 m\nSaturday 12pm-5pm and 6pm-9pm\nSunday 11am-6pm\nIce cream provided 
 by Haagen-Dazs, Ben & Jerry's, Edy's, Starbucks, J&J Snack Foods, Goo
 d Humor-Breyers, Turkey Hill, Jack & Jill, Shoprite, Philadelphia Wate
 r Ice Company, Mom's Water Ice, Friendly's, Bassetts, Fruitstix, and o
 thers\n\nFor more information visit http://phillytodo.com/events/super
 -scooper-all-you-can-eat-ice-cream-festival
DTSTART:20140704T040000Z
DTEND:20140707T035900Z
CATEGORIES:waterfront, park, food, kids
LOCATION:Great Plaza at Penn's Landing
WEBSITE:http://www.delawareriverwaterfront.com/events/super-scooper-al
 l-you-can-eat-ice-cream-festival-2014
URL:http://www.delawareriverwaterfront.com/events/super-scooper-all-yo
 u-can-eat-ice-cream-festival-2014
CONTACT:215-922-2386
ORGANIZER;CN="Delaware River Waterfront Corp.":http://phillytodo.com/p
 rofile/DelawareRiverWaterfrontCorp
ATTACH;FMTTYPE="image/jpeg":http://storage.ning.com/topology/rest/1.0/
 file/get/3054973816?profile=original
ATTENDEE;ROLE=REQ-PARTICIPANT;PARTSTAT=ACCEPTED;RSVP=TRUE;CN="Delaware
  River Waterfront Corp.":http://phillytodo.com/profile/DelawareRiverWa
 terfrontCorp
END:VEVENT
END:VCALENDAR
