BEGIN:VCALENDAR
PRODID:NingEventWidget-v1
VERSION:2.0
METHOD:PUBLISH
BEGIN:VEVENT
UID:4320450:Event:42887
DTSTAMP:20260425T125008Z
SUMMARY:Sundays with Santa
DESCRIPTION:Santa’s making a list and checking it twice as he visits
  Chestnut Hill with his team of elves every Sunday in December. Visit 
 his Headquarters located at Laurel Hill Gardens and snap a photo with 
 Mr. Claus himself.\n\nFor more information visit http://phillytodo.com
 /events/sundays-with-santa
DTSTART:20151206T170000Z
DTEND:20160127T200000Z
CATEGORIES:holiday, events
LOCATION:Along Germantown Ave.
WEBSITE:http://www.chestnuthillpa.com
URL:http://www.chestnuthillpa.com
CONTACT:215-247-6696
ORGANIZER:Chestnut Hill Business Association
ATTACH;FMTTYPE="image/jpeg":http://storage.ning.com/topology/rest/1.0/
 file/get/3054990492?profile=original
ATTENDEE;ROLE=REQ-PARTICIPANT;PARTSTAT=ACCEPTED;RSVP=TRUE;CN="Bryan Ch
 an":http://phillytodo.com/profile/BryanChan
END:VEVENT
END:VCALENDAR
