BEGIN:VCALENDAR
PRODID:NingEventWidget-v1
VERSION:2.0
METHOD:PUBLISH
BEGIN:VEVENT
UID:4320450:Event:20736
DTSTAMP:20260425T160814Z
SUMMARY:Sundays Live with The Lux!
DESCRIPTION:Check out The Lux at Hideaway Music.\n\nFor more informati
 on visit http://phillytodo.com/events/sundays-live-with-the-lux
DTSTART:20111113T190000Z
DTEND:20111113T193000Z
CATEGORIES:free, in-store, music
LOCATION:8612 Germantown Avenue, Philadelphia, PA 19118
WEBSITE:
URL:
CONTACT:
ORGANIZER;CN="Hideaway Music":http://phillytodo.com/profile/HideawayMu
 sic
ATTACH;FMTTYPE="image/jpeg":
ATTENDEE;ROLE=REQ-PARTICIPANT;PARTSTAT=ACCEPTED;RSVP=TRUE;CN="Hideaway
  Music":http://phillytodo.com/profile/HideawayMusic
END:VEVENT
END:VCALENDAR
