BEGIN:VCALENDAR
PRODID:NingEventWidget-v1
VERSION:2.0
METHOD:PUBLISH
BEGIN:VEVENT
UID:4320450:Event:40877
DTSTAMP:20260425T155633Z
SUMMARY:Sunday Morning Meditation with Gen Jampa
DESCRIPTION:Join us for a special Sunday Morning Meditation with Ameri
 can Buddhist monk Gen Jampa.\n$10\nGen Jampa is the Eastern US Nationa
 l Spiritual Director of the New Kadampa Tradition. He is also the Resi
 dent Teacher of the Kadampa Meditation Center Texas.\nA long time disc
 iple of the internationally renowned Buddhist Teacher and meditation m
 aster, Venerable Geshe Kelsang Gyatso, Gen Jampa has received ordinati
 on and lineage transmissions directly from him. Under the guidance of 
 Venerable Geshe Kelsang, Gen Jampa travels extensively giving the anci
 ent wisdom of Buddha to people throughout the US and abroad, helping t
 hem to find happiness in their hearts.\nGen Jampa is well-loved for hi
 s warmth and kindness and is known for inspiring and clear teachings. 
 By his example, he shows us how to practically and joyfully integrate 
 Buddha’s teachings into our daily lives. He is an inspiring example 
 of modern Buddhism in practice.\n\nFor more information visit http://p
 hillytodo.com/events/sunday-morning-meditation-with-gen-jampa
DTSTART:20150531T143000Z
DTEND:20150531T154500Z
CATEGORIES:meditation, class
LOCATION:Amitayus Kadampa Buddhist Center
WEBSITE:http://www.meditationinphiladelphia.org/sunday-morning-meditat
 ion-with-gen-jampa/
URL:http://www.meditationinphiladelphia.org/sunday-morning-meditation-
 with-gen-jampa/
CONTACT:267-702-3817
ORGANIZER;CN="Education Program Coordinator":http://phillytodo.com/pro
 file/EducationProgramCoordinator
ATTACH;FMTTYPE="image/jpeg":http://storage.ning.com/topology/rest/1.0/
 file/get/3054988549?profile=original
ATTENDEE;ROLE=REQ-PARTICIPANT;PARTSTAT=ACCEPTED;RSVP=TRUE;CN="Educatio
 n Program Coordinator":http://phillytodo.com/profile/EducationProgramC
 oordinator
END:VEVENT
END:VCALENDAR
