BEGIN:VCALENDAR
PRODID:NingEventWidget-v1
VERSION:2.0
METHOD:PUBLISH
BEGIN:VEVENT
UID:4320450:Event:1900
DTSTAMP:20260425T160907Z
SUMMARY:Summertime Lobster Bake @ City Tap House
DESCRIPTION:Grab your friends, invite your co-workers, tell your famil
 y... If you like great craft beers and a good 'ole LOBSTER BAKE, then 
 this is the event FOR YOU! Enjoy the weather on the huge outdoor cover
 ed terrace of the brand new City Tap House making this event rain or s
 hine. Get your discounted advance tickets ASAP - do not miss out!\n\nT
 he Weather is looking AMAZING! 84 & Sunny - what great weather for a S
 aturday outdoor party.\n\nDo not like Lobster? No problem. You can sti
 ll participate in the event with a $20 beer-only ticket! Plus, there w
 ill be an ala carte menu where you can order amazing pizzas, burgers, 
 sandwiches, and salads on your own if you do not get the lobster ticke
 t. Grab all your friends - everyone is welcome to attend!\n\nhttp://ww
 w.UpcomingEvents.com/event/5020/ptodo/\n\nFor more information visit h
 ttp://phillytodo.com/events/summertime-lobster-bake-city-1
DTSTART:20100821T190000Z
DTEND:20100821T230000Z
CATEGORIES:lobster, bake
LOCATION:City Tap House
WEBSITE:http://www.UpcomingEvents.com/event/5020/ptodo/
URL:http://www.UpcomingEvents.com/event/5020/ptodo/
CONTACT:
ORGANIZER;CN="UpcomingEvents.com":http://phillytodo.com/profile/Upcomi
 ngEventscom
ATTACH;FMTTYPE="image/jpeg":http://storage.ning.com/topology/rest/1.0/
 file/get/3054949880?profile=original
ATTENDEE;ROLE=REQ-PARTICIPANT;PARTSTAT=ACCEPTED;RSVP=TRUE;CN="Upcoming
 Events.com":http://phillytodo.com/profile/UpcomingEventscom
END:VEVENT
END:VCALENDAR
