BEGIN:VCALENDAR
PRODID:NingEventWidget-v1
VERSION:2.0
METHOD:PUBLISH
BEGIN:VEVENT
UID:4320450:Event:41313
DTSTAMP:20260425T124841Z
SUMMARY:SummerFestivus
DESCRIPTION:Enjoy some of Philly’s finest food trucks, activities, a
 nd a summer beer garden presented by Frankford Hall. Admission is free
 , with food and beverage available for purchase from participating ven
 dors. \n\nFor more information visit http://phillytodo.com/events/sum
 merfestivus
DTSTART:20150820T200000Z
DTEND:20150821T020000Z
CATEGORIES:festival
LOCATION:Franklin Square
WEBSITE:
URL:
CONTACT:
ORGANIZER:Historic Philadelphia, Inc.
ATTACH;FMTTYPE="image/jpeg":
ATTENDEE;ROLE=REQ-PARTICIPANT;PARTSTAT=ACCEPTED;RSVP=TRUE;CN="Cari Fei
 ler Bender":http://phillytodo.com/profile/CariFeilerBender
END:VEVENT
END:VCALENDAR
