BEGIN:VCALENDAR
PRODID:NingEventWidget-v1
VERSION:2.0
METHOD:PUBLISH
BEGIN:VEVENT
UID:4320450:Event:49494
DTSTAMP:20260425T123358Z
SUMMARY:Summerfest Live!
DESCRIPTION:XFINITY Live! is the home of Philadelphia's 4 best craft b
 eer and music festivals!\nSaturday, July 15 - 3-7pm.\nSummerfest Live!
  is back at XFINITY Live! Join us on Saturday, July 15 for Summerfest 
 Live! Craft Beer & Music Festival!\nGrab your friends and listen to li
 ve bands all day with unlimited samplings of 175+ great beers from 75+
  breweries.\nEnjoy spring and early summer brews in your own custom st
 ein.\nPlus a day filled with live DJs, amazing bands, super-fun contes
 ts in Victory Beer Hall, food trucks, games, activities, prizes, and g
 iveaways.\nFREE parking in lots S and T starting at 1pm. Lots S & T ar
 e on Pattison Ave near Citizens Bank Park across from XFINITY Live! Cl
 ick Here for parking map.\nShare and post your pictures using #Summerf
 estLive throughout the day!\nThis is a 21+ event.\nEVENT IS RAIN OR SH
 INE.\n\nFor more information visit http://phillytodo.com/events/summer
 fest-live
DTSTART:20170715T190000Z
DTEND:20170715T230000Z
CATEGORIES:beer, festival
LOCATION:Xfinity Live!
WEBSITE:http://www.xfinitylive.com/beerfest
URL:http://www.xfinitylive.com/beerfest
CONTACT:
ORGANIZER;CN="XFINITY Live! Philadelphia":http://phillytodo.com/profil
 e/XFINITYLivePhiladelphia
ATTACH;FMTTYPE="image/jpeg":http://storage.ning.com/topology/rest/1.0/
 file/get/3055003830?profile=original
ATTENDEE;ROLE=REQ-PARTICIPANT;PARTSTAT=ACCEPTED;RSVP=TRUE;CN="XFINITY 
 Live! Philadelphia":http://phillytodo.com/profile/XFINITYLivePhiladelp
 hia
END:VEVENT
END:VCALENDAR
