BEGIN:VCALENDAR
PRODID:NingEventWidget-v1
VERSION:2.0
METHOD:PUBLISH
BEGIN:VEVENT
UID:4320450:Event:46337
DTSTAMP:20260425T115629Z
SUMMARY:Summerfest Live! Craft Beer & Music Festival
DESCRIPTION:XFINITY Live! is the home of Philadelphia's 4 best craft b
 eer and music festivals! Join us for Summerfest Live! Saturday, July 1
 6th - 3-7pm.  Grab your friends and listen to live bands all day with 
 unlimited samplings of 150+ great beers.  Enjoy live music, contests, 
 games, food trucks & much more!  VIP and General Admission tickets are
  on sale!   Share and post your pictures using #SummerfestLive through
 out the day.  See more at: http://www.xfinitylive.com/beerfest#sthash.
 H370gIVV.dpuf\n\nFor more information visit http://phillytodo.com/even
 ts/summerfest-live-craft-beer-music-festival
DTSTART:20160716T190000Z
DTEND:20160716T230000Z
CATEGORIES:craft, beer, and, music, festival
LOCATION:XFINITY Live!
WEBSITE:http://www.xfinitylive.com/beerfest#sthash.H370gIVV.dpuf
URL:http://www.xfinitylive.com/beerfest#sthash.H370gIVV.dpuf
CONTACT:
ORGANIZER;CN="XFINITY Live! Philadelphia":http://phillytodo.com/profil
 e/XFINITYLivePhiladelphia
ATTACH;FMTTYPE="image/jpeg":http://storage.ning.com/topology/rest/1.0/
 file/get/3054995453?profile=original
ATTENDEE;ROLE=REQ-PARTICIPANT;PARTSTAT=ACCEPTED;RSVP=TRUE;CN="XFINITY 
 Live! Philadelphia":http://phillytodo.com/profile/XFINITYLivePhiladelp
 hia
END:VEVENT
END:VCALENDAR
