BEGIN:VCALENDAR
PRODID:NingEventWidget-v1
VERSION:2.0
METHOD:PUBLISH
BEGIN:VEVENT
UID:4320450:Event:36998
DTSTAMP:20260425T143313Z
SUMMARY:Summerfest: Craft Beer and Music Festival
DESCRIPTION:XFINITY Live! Philadelphia is proud to announce our inaugu
 ral Summerfest - Craft Beer & Music Festival - on Saturday, June 21st!
 \nCome down and enjoy the tastes of summer with 150+ craft beers, live
  music all day long, Sangria station, adult lemonade, Shandy Shack, Su
 mmer Love Lounge, Brew-BQ Picnic, giveaways and SO MUCH MORE!!\n\nFor 
 more information visit http://phillytodo.com/events/summerfest-craft-b
 eer-and-music-festival
DTSTART:20140621T190000Z
DTEND:20140621T230000Z
CATEGORIES:festival
LOCATION:XFINITY Live! Philadelphia
WEBSITE:http://www.xfinitylive.com
URL:http://www.xfinitylive.com
CONTACT:
ORGANIZER;CN="Stepfanie McCaffrey":http://phillytodo.com/profile/Stepf
 anieMcCaffrey
ATTACH;FMTTYPE="image/jpeg":http://storage.ning.com/topology/rest/1.0/
 file/get/3054978405?profile=original
ATTENDEE;ROLE=REQ-PARTICIPANT;PARTSTAT=ACCEPTED;RSVP=TRUE;CN="Stepfani
 e McCaffrey":http://phillytodo.com/profile/StepfanieMcCaffrey
END:VEVENT
END:VCALENDAR
