BEGIN:VCALENDAR
PRODID:NingEventWidget-v1
VERSION:2.0
METHOD:PUBLISH
BEGIN:VEVENT
UID:4320450:Event:41125
DTSTAMP:20260425T124130Z
SUMMARY:Summerfest 2015 - The Philadelphia Craft Beer & Music Festival
DESCRIPTION:Announcing Summerfest 2015, The Philadelphia Summer Craft 
 Beer & Music Festival at the incredible XFINITY Live! - complete with 
 indoor & covered outdoor beer gardens, 6 spectacular areas with 150+ b
 eers to taste, hot food, multiple musical acts, and MUCH MORE!  Grab 
 some friends and come on out for great day of amazing beer-drinking fu
 n.  FULL DETAILS are below under \"What to Expect\" - Tons of feature
 s!\n \nListen to live bands all day with unlimited sampling of 150+ g
 reat beers from 75+ breweries (yes, many awesome summer - and some ear
 ly fall - brews will be included) in your own custom stein while enjoy
 ing live music all day long.  You'll have access to the all the beer 
 gardens too! Entertainment will include multiple live DJs, amazing ban
 ds, super-fun contests in Victory Beer Hall, tons of bartenders & serv
 ing spots, outdoor fire pits, games, activities, prizes, and giveaways
 .  PLUS (if you can believe it) MORE!\n \nTickets & More Info: http
 ://www.upcomingevents.com/philadelphia/xfinity-live/summerfest/ptodo/\
 n\nFor more information visit http://phillytodo.com/events/summerfest-
 2015-the-philadelphia-craft-beer-music-festival
DTSTART:20150725T190000Z
DTEND:20150725T230000Z
CATEGORIES:craft, beer, tasting
LOCATION:XFINITY Live!
WEBSITE:http://www.upcomingevents.com/philadelphia/xfinity-live/summer
 fest/ptodo/
URL:http://www.upcomingevents.com/philadelphia/xfinity-live/summerfest
 /ptodo/
CONTACT:2155894163
ORGANIZER;CN="UpcomingEvents.com":http://phillytodo.com/profile/Upcomi
 ngEventscom
ATTACH;FMTTYPE="image/jpeg":http://storage.ning.com/topology/rest/1.0/
 file/get/3054988833?profile=original
ATTENDEE;ROLE=REQ-PARTICIPANT;PARTSTAT=ACCEPTED;RSVP=TRUE;CN="Upcoming
 Events.com":http://phillytodo.com/profile/UpcomingEventscom
END:VEVENT
END:VCALENDAR
