BEGIN:VCALENDAR
PRODID:NingEventWidget-v1
VERSION:2.0
METHOD:PUBLISH
BEGIN:VEVENT
UID:4320450:Event:41119
DTSTAMP:20260425T125826Z
SUMMARY:Summer Solstice Saturdays at Liberté Lounge
DESCRIPTION:When the sun goes down, so do the lights at the lounge! Fr
 om 9 p.m. to 1 a.m. on the last Saturday of each month this summer, Li
 berté Lounge will be hosting Summer Solstice Saturdays—a late night
  dance party with drink specials and a live DJ. Liberté Lounge is kno
 wn for its craft cocktails and luxurious atmosphere conveniented locat
 ed at Sofitel Philadelphia in Rittenhouse. For more information visit 
 www.libertelounge.com or call (215) 569-8300.\n\nFor more information 
 visit http://phillytodo.com/events/summer-solstice-saturdays-at-libert
 -lounge
DTSTART:20150628T010000Z
DTEND:20150628T050000Z
CATEGORIES:dance, party
LOCATION:Sofitel Philadelphia
WEBSITE:
URL:
CONTACT:215-569-8300
ORGANIZER:
ATTACH;FMTTYPE="image/jpeg":
ATTENDEE;ROLE=REQ-PARTICIPANT;PARTSTAT=ACCEPTED;RSVP=TRUE;CN=CashmanAs
 soc:http://phillytodo.com/profile/CashmanAssoc
END:VEVENT
END:VCALENDAR
