BEGIN:VCALENDAR
PRODID:NingEventWidget-v1
VERSION:2.0
METHOD:PUBLISH
BEGIN:VEVENT
UID:4320450:Event:40781
DTSTAMP:20260425T144259Z
SUMMARY:Summer Nights
DESCRIPTION:The Spring Garden Social Club presents...Summer Nights at 
 Zee Bar!Kick off the Spring and Summer party season with an all-nighte
 r! Tired of the fun ending at 2am? Hit up Zee Bar May 16th for a party
  that goes until 6am!!Featuring DJ Daily, Lee Jones & Giuliano Presta!
 In Uforia Puretech Sessions with Matt Damico and Lance BlaiseBottle Se
 rvice and reservations are available! 215.922.2994\n\nFor more informa
 tion visit http://phillytodo.com/events/summer-nights
DTSTART:20150517T020000Z
DTEND:20150517T100000Z
CATEGORIES:all-nighter
LOCATION:Zee Bar
WEBSITE:http://www.zee-bar.com/events/
URL:http://www.zee-bar.com/events/
CONTACT:215.922.2994
ORGANIZER;CN="UpcomingEvents.com":http://phillytodo.com/profile/Upcomi
 ngEventscom
ATTACH;FMTTYPE="image/jpeg":http://storage.ning.com/topology/rest/1.0/
 file/get/3054987576?profile=original
ATTENDEE;ROLE=REQ-PARTICIPANT;PARTSTAT=ACCEPTED;RSVP=TRUE;CN="Upcoming
 Events.com":http://phillytodo.com/profile/UpcomingEventscom
END:VEVENT
END:VCALENDAR
