BEGIN:VCALENDAR
PRODID:NingEventWidget-v1
VERSION:2.0
METHOD:PUBLISH
BEGIN:VEVENT
UID:4320450:Event:49548
DTSTAMP:20260425T125757Z
SUMMARY:Summer Native Plants Preview with Mike McGrath
DESCRIPTION:Join WHYY’s You Bet Your Garden host Mike McGrath as h
 e previews the perennials, shrubs, vines and trees that bloom during t
 he warm weather months. Mike will discuss the biodiversity and native 
 plants of the Schuylkill Center’s 340-acre preserved property with S
 chuylkill Center Manager of Land Stewardship Andrew Kirkpatrick and pr
 ovide tips on caring for and cultivating these plants.\nSummer native 
 plants will be available for purchase ahead of the sale for the genera
 l public on June 24.\n\nFor more information visit http://phillytodo.c
 om/events/summer-native-plants-preview-with-mike-mcgrath
DTSTART:20170621T223000Z
DTEND:20170622T000000Z
CATEGORIES:gardening
LOCATION:Schuylkill Center
WEBSITE:http://www.schuylkillcenter.org/blog/event/summer-native-plant
 s-preview-with-mike-mcgrath/
URL:http://www.schuylkillcenter.org/blog/event/summer-native-plants-pr
 eview-with-mike-mcgrath/
CONTACT:215-482-7300
ORGANIZER;CN="The Schuylkill Center":http://phillytodo.com/profile/Ann
 aLehrMueser
ATTACH;FMTTYPE="image/jpeg":http://storage.ning.com/topology/rest/1.0/
 file/get/3055003208?profile=original
ATTENDEE;ROLE=REQ-PARTICIPANT;PARTSTAT=ACCEPTED;RSVP=TRUE;CN="The Schu
 ylkill Center":http://phillytodo.com/profile/AnnaLehrMueser
END:VEVENT
END:VCALENDAR
