BEGIN:VCALENDAR
PRODID:NingEventWidget-v1
VERSION:2.0
METHOD:PUBLISH
BEGIN:VEVENT
UID:4320450:Event:1523
DTSTAMP:20260425T162024Z
SUMMARY:Summer In The City ~ Saturday May 22!
DESCRIPTION:The Spring Garden Social Club presents\nSUMMER IN THE CITY
 !!\nAt ZEE BAR 10pm-6am\nParty till the SUMMER SUN comes up at Philly'
 s HOTTEST all-night summer kick off party!\nThis event will feature li
 ve performances by\n51FIFTY\nDJ Presto One, Drummer Dustin J and Go-Go
  Dancer Brenda Reece\nWith Opening sets by DJ's JOHN G and LEE JONES\n
 As if it couldn't get any Hotter.....Dancephilly will be heating up th
 e Uforia room all night long!\n\nMore on Fifty One Fifty....\nHOT OFF 
 THE LAS VEGAS STRIP THEY'RE SPORTING THE NAME 51 FIFTY...THE POLICE CO
 DE FOR\nLUNATIC...SO YOU CAN BE SURE THEY ARE COMING TO PHILLY WITH TH
 AT OL' CRAZY STUFF.\nSPYONVEGAS.COM DUBBED THEM \"THE HOTTEST SINCE DJ
  AM-TRVS\"\n\nTo reserve a table for bottle service please contact Buf
 fy Varanese or Christie Langston at 215-922-2994 x106\n\nEarly admissi
 on is highly suggested for guaranteed admission, prior to 1am.\n\nFor 
 more information visit http://phillytodo.com/events/summer-in-the-city
 -saturday
DTSTART:20100523T020000Z
DTEND:20100523T100000Z
CATEGORIES:club, party
LOCATION:Zee Bar Private Social Club
WEBSITE:http://www.zee-bar.com
URL:http://www.zee-bar.com
CONTACT:215-922-2994 x106
ORGANIZER;CN="Zee Bar Private Social Club":http://phillytodo.com/profi
 le/ZeeBarPrivateSocialClub
ATTACH;FMTTYPE="image/jpeg":http://storage.ning.com/topology/rest/1.0/
 file/get/3054946723?profile=original
ATTENDEE;ROLE=REQ-PARTICIPANT;PARTSTAT=ACCEPTED;RSVP=TRUE;CN="Zee Bar 
 Private Social Club":http://phillytodo.com/profile/ZeeBarPrivateSocial
 Club
END:VEVENT
END:VCALENDAR
