BEGIN:VCALENDAR
PRODID:NingEventWidget-v1
VERSION:2.0
METHOD:PUBLISH
BEGIN:VEVENT
UID:4320450:Event:55521
DTSTAMP:20260425T125001Z
SUMMARY:Summer Grillin' Giveaway
DESCRIPTION:Enter to win a Weber Sprit II Black 3-Burner Liquid Propan
 e Gas Grill, the perfect item for outdoor summer barbeques, a value of
  $499. Sign up at customer service by June 28, 2018. Drawing date: Jun
 e 29.\n\nFor more information visit http://phillytodo.com/events/summe
 r-grillin-giveaway-1
DTSTART:20180628T040000Z
DTEND:20180629T035900Z
CATEGORIES:giveaway
LOCATION:Concord Mall
WEBSITE:http://www.concordmall.com
URL:http://www.concordmall.com
CONTACT:
ORGANIZER;CN=CashmanAssoc:http://phillytodo.com/profile/CashmanAssoc
ATTACH;FMTTYPE="image/jpeg":http://storage.ning.com/topology/rest/1.0/
 file/get/3055015589?profile=original
ATTENDEE;ROLE=REQ-PARTICIPANT;PARTSTAT=ACCEPTED;RSVP=TRUE;CN=CashmanAs
 soc:http://phillytodo.com/profile/CashmanAssoc
END:VEVENT
END:VCALENDAR
