BEGIN:VCALENDAR
PRODID:NingEventWidget-v1
VERSION:2.0
METHOD:PUBLISH
BEGIN:VEVENT
UID:4320450:Event:36960
DTSTAMP:20260425T144409Z
SUMMARY:Summer Concert Series: The Hooters
DESCRIPTION:Our summer concert series continues as The Hooters rocks t
 he stage on Saturday, June 14th for a FREE SHOW!\nFree parking is avai
 lable after 7pm #XLSummerConcert\n\nFor more information visit http://
 phillytodo.com/events/summer-concert-series-the-hooters
DTSTART:20140615T000000Z
DTEND:20140615T034500Z
CATEGORIES:concert
LOCATION:XFINITY Live! Philadelphia
WEBSITE:http://xfinitylive.com/entertainment/event/2332
URL:http://xfinitylive.com/entertainment/event/2332
CONTACT:267-443-6415
ORGANIZER;CN="XFINITY Live! Philadelphia":http://phillytodo.com/profil
 e/XFINITYLivePhiladelphia
ATTACH;FMTTYPE="image/jpeg":http://storage.ning.com/topology/rest/1.0/
 file/get/3054978185?profile=original
ATTENDEE;ROLE=REQ-PARTICIPANT;PARTSTAT=ACCEPTED;RSVP=TRUE;CN="XFINITY 
 Live! Philadelphia":http://phillytodo.com/profile/XFINITYLivePhiladelp
 hia
END:VEVENT
END:VCALENDAR
