BEGIN:VCALENDAR
PRODID:NingEventWidget-v1
VERSION:2.0
METHOD:PUBLISH
BEGIN:VEVENT
UID:4320450:Event:40796
DTSTAMP:20260425T144250Z
SUMMARY:Summer Beauty Blitz
DESCRIPTION:Kick off your summer with our collection of health & beaut
 y experts providing FREE make-up, manicures, massages and more! In the
  lower level of the Comcast Center, we'll host an exciting lineup of s
 ervices to get you summer ready in a snap!\n \nThe evening will host 
 free eyebrow threading by anjuthreads, chair massages by Eviama Life S
 pa, make-up demo's by Make Me Up Pretty LLC, mini-manicures by doorBel
 la, and natural body butters by Real.. #BeautyBlitz\n\nFor more inform
 ation visit http://phillytodo.com/events/summer-beauty-blitz-1
DTSTART:20150526T210000Z
DTEND:20150526T230000Z
CATEGORIES:beauty, event
LOCATION:The Market & Shop at Comcast Center
WEBSITE:
URL:
CONTACT:
ORGANIZER;CN=CashmanAssoc:http://phillytodo.com/profile/CashmanAssoc
ATTACH;FMTTYPE="image/jpeg":http://storage.ning.com/topology/rest/1.0/
 file/get/3054989460?profile=original
ATTENDEE;ROLE=REQ-PARTICIPANT;PARTSTAT=ACCEPTED;RSVP=TRUE;CN=CashmanAs
 soc:http://phillytodo.com/profile/CashmanAssoc
END:VEVENT
END:VCALENDAR
