BEGIN:VCALENDAR
PRODID:NingEventWidget-v1
VERSION:2.0
METHOD:PUBLISH
BEGIN:VEVENT
UID:4320450:Event:55047
DTSTAMP:20260425T123415Z
SUMMARY:Suits &amp; Sazeracs
DESCRIPTION:Join Henry A. Davidsen: Master Tailors & Image Consultants
 , Philadelphia’s leader in custom tailored clothing, for Suits & Saz
 eracs, a spirited cocktail competition and charitable fundraiser prese
 nted with Bluebird Distilling and Square 1682 at the Hotel Palomar on 
 Monday, May 7th from 6 to 9 p.m.\nEnjoy a New Orleans-inspired evenin
 g sampling Sazeracs crafted by an array of talented Philadelphia barte
 nders using local Bluebird Distilling spirits. Vote for your favorite 
 cocktail to honor one bartender with the superior Sazerac. Southern-st
 yle passed appetizers will be prepared by Executive Chef Bobby Surdam 
 of Square 1682 and an after-hours event will be hosted downstairs at S
 quare 1682.\nCome dressed to impress, ready to sample Sazeracs, and pa
 rty Nola-style!\nTicket proceeds to benefit Career Wardrobe, a Philad
 elphia-based nonprofit providing a professional wardrobe to unemployed
 , low-income men – from laid-off workers to recovering substance abu
 sers to veterans.\nSuits & Sazaracs is the closing ceremony of Henry A
 . Davidsen’s third annual Suit Drive, a month-long collection of gen
 tly-worn suit items to be donated to Career Wardrobe. Help make Henry 
 A. Davidsen’s goal of providing Philadelphians 5,000 clothing items 
 by May 7th!\n\nFor more information visit http://phillytodo.com/events
 /suits-amp-sazeracs
DTSTART:20180507T220000Z
DTEND:20180508T010000Z
CATEGORIES:fundraiser
LOCATION:Hotel Palomar Ballroom
WEBSITE:https://henrydavidsen.ticketleap.com/suits-sazeracs/
URL:https://henrydavidsen.ticketleap.com/suits-sazeracs/
CONTACT:2155920120
ORGANIZER;CN="Punch Media":http://phillytodo.com/profile/PunchMedia
ATTACH;FMTTYPE="image/jpeg":http://storage.ning.com/topology/rest/1.0/
 file/get/3055011320?profile=original
ATTENDEE;ROLE=REQ-PARTICIPANT;PARTSTAT=ACCEPTED;RSVP=TRUE;CN="Punch Me
 dia":http://phillytodo.com/profile/PunchMedia
END:VEVENT
END:VCALENDAR
