BEGIN:VCALENDAR
PRODID:NingEventWidget-v1
VERSION:2.0
METHOD:PUBLISH
BEGIN:VEVENT
UID:4320450:Event:43068
DTSTAMP:20260425T161736Z
SUMMARY:Sugarplum Saturday
DESCRIPTION:Following the parade and enjoy photos with Santa, arts & c
 raft, treats and more throughout Chestnut Hill.\n\nFor more informatio
 n visit http://phillytodo.com/events/sugarplum-saturday
DTSTART:20151212T160000Z
DTEND:20151212T200000Z
CATEGORIES:holiday, event
LOCATION:Chestnut Hill Area
WEBSITE:http://www.chestnuthillpa.com
URL:http://www.chestnuthillpa.com
CONTACT:215-247-6696
ORGANIZER:Chestnut Hill Business Association
ATTACH;FMTTYPE="image/jpeg":http://storage.ning.com/topology/rest/1.0/
 file/get/3054990144?profile=original
ATTENDEE;ROLE=REQ-PARTICIPANT;PARTSTAT=ACCEPTED;RSVP=TRUE;CN="Bryan Ch
 an":http://phillytodo.com/profile/BryanChan
END:VEVENT
END:VCALENDAR
