BEGIN:VCALENDAR
PRODID:NingEventWidget-v1
VERSION:2.0
METHOD:PUBLISH
BEGIN:VEVENT
UID:4320450:Event:35204
DTSTAMP:20260425T144440Z
SUMMARY:Sugar Plum Fairies GayBINGO!
DESCRIPTION:December 14 – Sugar Plum Fairies GayBINGO! – Bring a n
 ew, unwrapped toy for a child infected with or affected by HIV.\n\nThi
 s fun event is open to anyone who enjoys campy humor. Cash prizes will
  be awarded in each game.  Tickets for GayBINGO are on sale at 215-73
 1-9255.  Reserved Seating tickets on the Bingo floor are $25. General
  admission tickets in the balcony are $20.\n \nGayBINGO was named Bes
 t of Philly (Gay Event), won PGN's Lambda Award for Best Fundraiser, a
 nd was the subject of a popular WHYY documentary.  GayBINGO has also 
 been featured in the LA Times, Washington Post, and USA Today.  The e
 vent has raised over $2 million to date.  GayBINGO sponsors are ING, 
 Tavern on Camac, Starbucks, Philadelphia Weekly, and Philly AIDS Thrif
 t.\n \nAIDS Fund produces a variety of fundraising and awareness prog
 rams throughout the year, including AIDS Walk Philly, AIDS Run Philly,
  GayBINGO!, Black-Tie GayBINGO!, World AIDS Day, and Workplace Giving 
 Campaigns.  The AIDS Fund grant program supports partner organization
 s in the Philadelphia Region that provide AIDS and HIV-related service
 s, education, and prevention including increasing public awareness of 
 HIV/AIDS issues.  AIDS Fund is also the Philadelphia affiliate of The
  Names Project, curating panels of The AIDS Memorial Quilt for a local
  audience.  The 27th Annual AIDS Walk Philly will take place on Sunda
 y, October 20, 2013. Contact AIDS Fund at 215-731-9255 or www.aidsfun
 dphilly.org. Follow AIDS Fund on Facebook and Twitter: www.facebook.co
 m/AIDSWalkPhilly, www.facebook.com/gaybingophilly, and twitter.com/AID
 SWalkPhilly.\n\nFor more information visit http://phillytodo.com/event
 s/sugar-plum-fairies-gaybingo
DTSTART:20131214T230000Z
DTEND:20131215T050000Z
CATEGORIES:special, event
LOCATION:Gershman Y
WEBSITE:
URL:
CONTACT:215-731-9255
ORGANIZER;CN="Cari Feiler Bender":http://phillytodo.com/profile/CariFe
 ilerBender
ATTACH;FMTTYPE="image/jpeg":http://storage.ning.com/topology/rest/1.0/
 file/get/3054967562?profile=original
ATTENDEE;ROLE=REQ-PARTICIPANT;PARTSTAT=ACCEPTED;RSVP=TRUE;CN="Cari Fei
 ler Bender":http://phillytodo.com/profile/CariFeilerBender
END:VEVENT
END:VCALENDAR
