BEGIN:VCALENDAR
PRODID:NingEventWidget-v1
VERSION:2.0
METHOD:PUBLISH
BEGIN:VEVENT
UID:4320450:Event:41107
DTSTAMP:20260425T130600Z
SUMMARY:Succulent Propagation & Container Design Workshop
DESCRIPTION:http://www.greensgrow.org/event/succulent-propagation-cont
 ainer-design-workshop/\n\nFor more information visit http://phillytodo
 .com/events/succulent-propagation-container-design-workshop-see-more-a
 t-http
DTSTART:20150606T160000Z
DTEND:20150606T180000Z
CATEGORIES:workshop
LOCATION:Greensgrow Farms
WEBSITE:http://www.greensgrow.org/event/succulent-propagation-containe
 r-design-workshop/
URL:http://www.greensgrow.org/event/succulent-propagation-container-de
 sign-workshop/
CONTACT:2154272702
ORGANIZER;CN="Greensgrow Farms":http://phillytodo.com/profile/Greensgr
 owFarms
ATTACH;FMTTYPE="image/jpeg":
ATTENDEE;ROLE=REQ-PARTICIPANT;PARTSTAT=ACCEPTED;RSVP=TRUE;CN="Greensgr
 ow Farms":http://phillytodo.com/profile/GreensgrowFarms
END:VEVENT
END:VCALENDAR
