BEGIN:VCALENDAR
PRODID:NingEventWidget-v1
VERSION:2.0
METHOD:PUBLISH
BEGIN:VEVENT
UID:4320450:Event:34978
DTSTAMP:20260425T144302Z
SUMMARY:Succulent Container Workshop
DESCRIPTION:$35. Registration Required.\nLooking for a care-free house
  plant? Succulents are the way to go! Let our horticulture specialist 
 walk you through the planting, propagation and upkeep of sedums and se
 mpervivum. These hardy plants are not only interesting in appearance b
 ut easy to maintain, too! During this hands-on class we’ll teach you
  how to arrange, plant and care for a container of your very own. Plea
 se bring gardening gloves & hand trowel if you have them.  Participant
 s will receive a metal planter to begin their succulent garden. A vari
 ety of succulents will be available for purchase at an additional cost
 .\n\nFor more information visit http://phillytodo.com/events/succulent
 -container-workshop
DTSTART:20131116T170000Z
DTEND:20131116T190000Z
CATEGORIES:workshop
LOCATION:Greensgrow Farms
WEBSITE:http://www.greensgrow.org/event/succulent-container-workshop/
URL:http://www.greensgrow.org/event/succulent-container-workshop/
CONTACT:
ORGANIZER;CN="Greensgrow Farms":http://phillytodo.com/profile/Greensgr
 owFarms
ATTACH;FMTTYPE="image/jpeg":http://storage.ning.com/topology/rest/1.0/
 file/get/3054967906?profile=original
ATTENDEE;ROLE=REQ-PARTICIPANT;PARTSTAT=ACCEPTED;RSVP=TRUE;CN="Greensgr
 ow Farms":http://phillytodo.com/profile/GreensgrowFarms
END:VEVENT
END:VCALENDAR
