BEGIN:VCALENDAR
PRODID:NingEventWidget-v1
VERSION:2.0
METHOD:PUBLISH
BEGIN:VEVENT
UID:4320450:Event:22502
DTSTAMP:20260425T161439Z
SUMMARY:LIGHTING THE MENORAH AND A HANUKKAH WONDERLAND DEC. 20TH & 21S
 T, 6:00 p.m. - 8:30 p.m.
DESCRIPTION:Suburban Square presents Lighting the Menorah and A Hanukk
 ah Wonderland on the first and second nights of Hanukkah. Beginning at
  6 p.m. both nights, the public is invited to gather around as Rabbi M
 ichael Litchman from Chabad of the Main Line lights Suburban Square’
 s 10 ft. tall Menorah in the courtyard outside of the Times Building, 
 opposite the Apple Store.  A Hanukkah Wonderland celebration will imme
 diately follow with music, decorations, crafts, free food and giveaway
 s. Attendees may also participate in fun activities such as building t
 heir own Dreidels and decorating doughnuts. The celebration will be he
 ld in Lilly’s former space between Starbucks and Paper Source.\n\nFo
 r more information visit http://phillytodo.com/events/suburban-square-
 celebrates-jewish-heritage-lighting-the-menorah
DTSTART:20111220T230000Z
DTEND:20111222T013000Z
CATEGORIES:lighting, of, the, menorah
LOCATION:Suburban Square Ardmore
WEBSITE:http://www.suburbansquare.com
URL:http://www.suburbansquare.com
CONTACT:610-896-7560
ORGANIZER;CN="Lauren Wenzel":http://phillytodo.com/profile/JacklinRhoa
 ds
ATTACH;FMTTYPE="image/jpeg":http://storage.ning.com/topology/rest/1.0/
 file/get/3054954715?profile=original
ATTENDEE;ROLE=REQ-PARTICIPANT;PARTSTAT=ACCEPTED;RSVP=TRUE;CN="Lauren W
 enzel":http://phillytodo.com/profile/JacklinRhoads
END:VEVENT
END:VCALENDAR
