BEGIN:VCALENDAR
PRODID:NingEventWidget-v1
VERSION:2.0
METHOD:PUBLISH
BEGIN:VEVENT
UID:4320450:Event:46526
DTSTAMP:20260425T161412Z
SUMMARY:Sublime with Rome and Dirty Heads Official After Party
DESCRIPTION:On Saturday, July 9th, come join us at the Hard Rock Cafe 
 for the Sublime with Rome and Dirty Heads Official After Party hosted 
 by Jared Watson. To purchase a ticket and for more details, please vis
 it,\nhttps://www.ticketfly.com/purchase/event/1229163?utm_medium=bks\n
 \nFor more information visit http://phillytodo.com/events/sublime-with
 -rome-and-dirty-heads-official-after-party
DTSTART:20160710T030000Z
DTEND:20160710T060000Z
CATEGORIES:music
LOCATION:Hard Rock Cafe, Philadelphia
WEBSITE:
URL:
CONTACT:
ORGANIZER:Hard Rock Cafe
ATTACH;FMTTYPE="image/jpeg":
ATTENDEE;ROLE=REQ-PARTICIPANT;PARTSTAT=ACCEPTED;RSVP=TRUE;CN=CashmanAs
 soc:http://phillytodo.com/profile/CashmanAssoc
END:VEVENT
END:VCALENDAR
