BEGIN:VCALENDAR
PRODID:NingEventWidget-v1
VERSION:2.0
METHOD:PUBLISH
BEGIN:VEVENT
UID:4320450:Event:53608
DTSTAMP:20260425T144256Z
SUMMARY:Style Me Manayunk
DESCRIPTION:Manayunk is hosting the first ever Style Me Manayunk pop u
 p event on Sunday, December 10 from 10 a.m. – 5 p.m. The event, whic
 h will be held on Grape Street in between Main and Cresson Streets, wi
 ll celebrate all things fashion—from clothes and accessories, to foo
 d and music.\n\n\n\n\nFor more information visit http://phillytodo.com
 /events/style-me-manayunk
DTSTART:20171210T150000Z
DTEND:20171210T220000Z
CATEGORIES:shopping, festival
LOCATION:Main Street, Manayunk
WEBSITE:http://manayunk.com/news-and-events/events/holidays.html
URL:http://manayunk.com/news-and-events/events/holidays.html
CONTACT:2154829565
ORGANIZER;CN="Manayunk Development Corporation":http://phillytodo.com/
 profile/ManayunkDevelopmentCorporation
ATTACH;FMTTYPE="image/jpeg":http://storage.ning.com/topology/rest/1.0/
 file/get/3055009523?profile=original
ATTENDEE;ROLE=REQ-PARTICIPANT;PARTSTAT=ACCEPTED;RSVP=TRUE;CN="Manayunk
  Development Corporation":http://phillytodo.com/profile/ManayunkDevelo
 pmentCorporation
END:VEVENT
END:VCALENDAR
