BEGIN:VCALENDAR
PRODID:NingEventWidget-v1
VERSION:2.0
METHOD:PUBLISH
BEGIN:VEVENT
UID:4320450:Event:54667
DTSTAMP:20260425T163636Z
SUMMARY:Style Me Manayunk
DESCRIPTION:Style Me Manayunk is an open-air market featuring high qua
 lity fashion, accessories, home decor, and more! The event will take p
 lace Saturday, May 12 10AM-4PM in the Levering Lot on Main Street. In 
 addition to retail shopping, the event will also feature local food ve
 ndors and live music!\n\nFor more information visit http://phillytodo.
 com/events/style-me-manayunk-1
DTSTART:20180512T140000Z
DTEND:20180512T200000Z
CATEGORIES:fashion
LOCATION:Main Street Manayunk
WEBSITE:http://manayunk.com/news-and-events/events/style-me-manayunk.h
 tml
URL:http://manayunk.com/news-and-events/events/style-me-manayunk.html
CONTACT:215-482-9565
ORGANIZER;CN="Manayunk Development Corporation":http://phillytodo.com/
 profile/ManayunkDevelopmentCorporation
ATTACH;FMTTYPE="image/jpeg":
ATTENDEE;ROLE=REQ-PARTICIPANT;PARTSTAT=ACCEPTED;RSVP=TRUE;CN="Manayunk
  Development Corporation":http://phillytodo.com/profile/ManayunkDevelo
 pmentCorporation
END:VEVENT
END:VCALENDAR
