BEGIN:VCALENDAR
PRODID:NingEventWidget-v1
VERSION:2.0
METHOD:PUBLISH
BEGIN:VEVENT
UID:4320450:Event:36670
DTSTAMP:20260425T160803Z
SUMMARY:Study Hall
DESCRIPTION:Drexel University’s Professor Michael Yudell and some of
  Philly’s best improvisers team-up up to create a full hour of spont
 aneous comedy inspired by brutally honest science! Professor Yudell wi
 ll exploit every ounce of his tenure to lecture on a wide variety of t
 opics and the “students” will warp each lecture into outrageous sc
 enes on the spot! Don’t be late to Study Hall!\nThis *will* sell out
 ! Get tickests now at: http://goo.gl/IyxgtL \n Study Hall is part of 
 PHIT's \"Dynamite Series\". Curated by our Artistic Director, this ori
 ginal PHIT series is an open creative space that showcases unique proj
 ects. These diverse shows cover a wide variety of comedic disciplines,
  strengthen our connections to other communities in Philadelphia, and 
 demonstrate boundary pushing comedy.\nThe Dynamite Series @ PHIT…Con
 nect. Ignite. Explode.\n\nFor more information visit http://phillytodo
 .com/events/study-hall
DTSTART:20140524T233000Z
DTEND:20140525T003000Z
CATEGORIES:comedy, improv, theater, history, science, lecture
LOCATION:The Philly Improv Theater
WEBSITE:http://www.phillyimprovtheater.com
URL:http://www.phillyimprovtheater.com
CONTACT:267-233-1556
ORGANIZER;CN="Philly Improv Theater":http://phillytodo.com/profile/Mik
 eMarbach
ATTACH;FMTTYPE="image/jpeg":http://storage.ning.com/topology/rest/1.0/
 file/get/3054973118?profile=original
ATTENDEE;ROLE=REQ-PARTICIPANT;PARTSTAT=ACCEPTED;RSVP=TRUE;CN="Philly I
 mprov Theater":http://phillytodo.com/profile/MikeMarbach
END:VEVENT
END:VCALENDAR
