BEGIN:VCALENDAR
PRODID:NingEventWidget-v1
VERSION:2.0
METHOD:PUBLISH
BEGIN:VEVENT
UID:4320450:Event:55955
DTSTAMP:20260425T142656Z
SUMMARY:Studio Tours with CraftNOW Philadelphia
DESCRIPTION:In partnership with the American Craft Council and Philade
 lphia Open Studio Tours, Craft NOW Philadelphia invites you to spend t
 he afternoon of October 13 touring some of Philadelphia’s most excit
 ing makerspaces. A tour bus will travel from Center City to visit Glob
 e Dye Works, Maken Studios, bahdeebahdu and Crane Arts before ending i
 n Old City with receptions happening simultaneously at The Center for 
 Art in Wood and The Clay Studio.\n\nFor more information visit http://
 phillytodo.com/events/studio-tours-with-craftnow-philadelphia
DTSTART:20181013T153000Z
DTEND:20181013T220000Z
CATEGORIES:tour
LOCATION:Tour departs from University of the Arts
WEBSITE:https://www.eventbrite.com/e/studio-tours-with-craftnow-philad
 elphia-tickets-47956160166
URL:https://www.eventbrite.com/e/studio-tours-with-craftnow-philadelph
 ia-tickets-47956160166
CONTACT:
ORGANIZER;CN="Bryan Chan":http://phillytodo.com/profile/BryanChan
ATTACH;FMTTYPE="image/jpeg":http://storage.ning.com/topology/rest/1.0/
 file/get/3055015828?profile=original
ATTENDEE;ROLE=REQ-PARTICIPANT;PARTSTAT=ACCEPTED;RSVP=TRUE;CN="Bryan Ch
 an":http://phillytodo.com/profile/BryanChan
END:VEVENT
END:VCALENDAR
