BEGIN:VCALENDAR
PRODID:NingEventWidget-v1
VERSION:2.0
METHOD:PUBLISH
BEGIN:VEVENT
UID:4320450:Event:4059
DTSTAMP:20260425T124921Z
SUMMARY:Stroehmann Bakeries Walk+Run Against Hunger
DESCRIPTION:Join us April 9, 2011, Saturday for the 15th annual Walk+R
 un Against Hunger! The Walk+Run raises funds for more than 100 food pa
 ntries, soup kitchens and hunger-relief agencies in Southeastern Penns
 ylvania and South Jersey, including the Coalition Against Hunger, The 
 Food Trust and Philabundance. With more people seeking help this year,
  your support is needed more than ever.\nBring your family and friends
 ! The Walk+Run features free food, live music and entertainment, speci
 al guests, fabulous raffle prizes and fun activities for all ages.\n 
 \nUSATF Certified course. Professionally chip-timed by CompuScore. Reg
 istration is $20 until April 7 ($30 event day) and includes Walk+Run A
 gainst Hunger T-shirt. Top runners in their categories will receive aw
 ards and prizes.\n\nFor more information visit http://phillytodo.com/e
 vents/stroehmann-bakeries-walkrun
DTSTART:20110409T110000Z
DTEND:20110409T160000Z
CATEGORIES:charity, walk, and, run
LOCATION:Philadelphia Museum of Art
WEBSITE:http://www.hungerwalk.org
URL:http://www.hungerwalk.org
CONTACT:215-769-0659
ORGANIZER:Greater Philadelphia Coalition Against Hunger
ATTACH;FMTTYPE="image/jpeg":http://storage.ning.com/topology/rest/1.0/
 file/get/3054953942?profile=original
ATTENDEE;ROLE=REQ-PARTICIPANT;PARTSTAT=ACCEPTED;RSVP=TRUE;CN="Kate Bro
 gan":http://phillytodo.com/profile/KateBrogan
END:VEVENT
END:VCALENDAR
