BEGIN:VCALENDAR
PRODID:NingEventWidget-v1
VERSION:2.0
METHOD:PUBLISH
BEGIN:VEVENT
UID:4320450:Event:1172
DTSTAMP:20260425T124843Z
SUMMARY:Stroehmann Bakeries Walk Against Hunger & 5K Run
DESCRIPTION:Join thousands of committed individuals at the 14th annual
  Walk Against Hunger & 5K Run, the largest hunger-awareness event in t
 he state. This family-friendly event raises more than a quarter-millio
 n dollars for local food pantries, soup kitchens and hunger-relief age
 ncies, including Philabundance and The Food Trust.\n\nWith a record nu
 mber of people turning to food pantries for help, this year's event ne
 eds more support than ever.\n\nIt's free to Walk, so donate what you c
 an. And just $20 to sign up for the 5K Run. Visit www.hungerwalk.org.\
 n\nFor more information visit http://phillytodo.com/events/stroehmann-
 bakeries-walk
DTSTART:20100410T113000Z
DTEND:20100411T033000Z
CATEGORIES:fundraiser
LOCATION:Philadelphia Museum of Art
WEBSITE:http://www.hungerwalk.org
URL:http://www.hungerwalk.org
CONTACT:215-769-0659
ORGANIZER:Greater Philadelphia Coalition Against Hunger
ATTACH;FMTTYPE="image/jpeg":http://storage.ning.com/topology/rest/1.0/
 file/get/3054946612?profile=original
ATTENDEE;ROLE=REQ-PARTICIPANT;PARTSTAT=ACCEPTED;RSVP=TRUE;CN="Ronna Bo
 lante":http://phillytodo.com/profile/RonnaBolante
END:VEVENT
END:VCALENDAR
