BEGIN:VCALENDAR
PRODID:NingEventWidget-v1
VERSION:2.0
METHOD:PUBLISH
BEGIN:VEVENT
UID:4320450:Event:37070
DTSTAMP:20260425T143102Z
SUMMARY:Stroehmann Back on My Feet in24 Philadelphia Race Challenge Vo
 lunteer Opportunity
DESCRIPTION:in24 Philadelphia is a 24-hour race weekend featuring an U
 ltra-Marathon, Relay Challenge, Midnight Madness and Finale 5K - a wee
 kend full of FUN! All proceeds benefit Back on My Feet, a national for
 -purpose organization that uses running to help those experiencing ho
 melessness transform their lives.\nWe are looking for volunteers to he
 lp man various shift times, including at night. The event will be the 
 weekend of July 18th through 20th at the Schuylkill River Running Loop
 !\nVolunteer Opportunites:\n\nRunner Registration\nInformation Tent/ B
 ag Check\nMerchandise Sales\nRefreshment Station & Water Stop\nVolunte
 er Registration\nTiming\nFarsighter\nBike Patrol & Bike Sweep\nPacers\
 n\nTime Slots:\nFriday July 18, 2014\n\n3:00pm-5:00pm\n4:00pm-6:00pm\n
 6:pm-9:00pm\n\nSaturday July 19, 2014\n\n8:00am-12:00pm\n12:00pm-4:00p
 m\n4:00pm-8:00pm\n8:00pm-12:00am (Sunday)\n\nSunday July 20, 2014\n\n1
 2:00am-2:00am\n2:00am-4:00am\n4:00am-6:00am\n6:00am-8:00am\n8:00am-10:
 00am\n10:00am-12:00pm\n\nRegister here!\n\nFor more information visit 
 http://phillytodo.com/events/stroehmann-back-on-my-feet-in24-philadelp
 hia-race-challenge
DTSTART:20140718T190000Z
DTEND:20140720T160000Z
CATEGORIES:volunteer, opportunity
LOCATION:Lloyd Hall
WEBSITE:http://philadelphia.in24race.com
URL:http://philadelphia.in24race.com
CONTACT:
ORGANIZER:Heather & Colleen Murphy
ATTACH;FMTTYPE="image/jpeg":http://storage.ning.com/topology/rest/1.0/
 file/get/3054975254?profile=original
ATTENDEE;ROLE=REQ-PARTICIPANT;PARTSTAT=ACCEPTED;RSVP=TRUE;CN="Colleen 
 Murphy":http://phillytodo.com/profile/ColleenMurphy
END:VEVENT
END:VCALENDAR
