BEGIN:VCALENDAR
PRODID:NingEventWidget-v1
VERSION:2.0
METHOD:PUBLISH
BEGIN:VEVENT
UID:4320450:Event:49023
DTSTAMP:20260425T123415Z
SUMMARY:Stout Bowl II
DESCRIPTION:BRU Craft & Wurst, U-Bahn and Cinder will unleash 92 kegs 
 of rare, fancy and unique drafts on Pro Bowl Sunday, January 29th duri
 ng Sour Bowl, Stout Bowl and new Cider Bowl. At BRU, starting at 11:00
 am, Sour Bowl III will feature dozens of hard-to-get wild and hoppy dr
 afts, plus a special beer brunch menu. At Cinder, starting at 2:00pm, 
 look for a baker's dozen of special ciders, plus a bounty of sours, sa
 isons, stouts, strong ales, and fresh as hell hoppy beers. At U-Bahn, 
 starting at 4:00pm, look for 15 behemoth drafts, 11 Eclipse bottle pou
 rs, a firkin of fresh as h_ll IPA, and off-menu housemade sausages and
  special wings. All pours are first come, first serve, and are special
 ly priced for this one day event. Twenty-one with identification to dr
 ink. Free admission with food/drink pay-as-you-go.  For more informat
 ion visit U-Bahn on Facebook or call (215) 800-1079.\n\nFor more infor
 mation visit http://phillytodo.com/events/stout-bowl-ii
DTSTART:20170129T210000Z
DTEND:20170130T070000Z
CATEGORIES:craft, beer
LOCATION:U-bahn
WEBSITE:https://www.facebook.com/events/644887899031296/
URL:https://www.facebook.com/events/644887899031296/
CONTACT:(215) 800-1079
ORGANIZER:Bru Craft & Wurst
ATTACH;FMTTYPE="image/jpeg":http://storage.ning.com/topology/rest/1.0/
 file/get/3055001522?profile=original
ATTENDEE;ROLE=REQ-PARTICIPANT;PARTSTAT=ACCEPTED;RSVP=TRUE;CN="Aversa P
 R & Events":http://phillytodo.com/profile/KoryAversa277
END:VEVENT
END:VCALENDAR
