BEGIN:VCALENDAR
PRODID:NingEventWidget-v1
VERSION:2.0
METHOD:PUBLISH
BEGIN:VEVENT
UID:4320450:Event:45141
DTSTAMP:20260425T142633Z
SUMMARY:Stout Bowl at U-Bahn
DESCRIPTION:Stout Bowl at U-Bahn (1320 Chestnut) features 14 over-the-
 top stouts, plus a Tröegs firkin. Simultaneously, U-Bahn’s above-gr
 ound sister bar will run Sour Bowl II, a full 32-tap takeover at BRÜ 
 Craft & Wurst that features 28 sours, plus four IPAs, including Pliny 
 the Elder. Stouts are first come, first serve and range from $7 to $9.
  For more information visit BRU on Facebook or call (215) 800-1079.\n\
 nFor more information visit http://phillytodo.com/events/stout-bowl-at
 -u-bahn
DTSTART:20160131T050000Z
DTEND:20160201T045900Z
CATEGORIES:tap, takeover, -, stout, beers
LOCATION:U-Bahn
WEBSITE:http://ubahnphilly.com/
URL:http://ubahnphilly.com/
CONTACT:(215) 800-1079
ORGANIZER:BRÜ Craft & Wurst & U-Bahn
ATTACH;FMTTYPE="image/jpeg":http://storage.ning.com/topology/rest/1.0/
 file/get/3054993457?profile=original
ATTENDEE;ROLE=REQ-PARTICIPANT;PARTSTAT=ACCEPTED;RSVP=TRUE;CN="Aversa P
 R & Events":http://phillytodo.com/profile/KoryAversa277
END:VEVENT
END:VCALENDAR
