BEGIN:VCALENDAR
PRODID:NingEventWidget-v1
VERSION:2.0
METHOD:PUBLISH
BEGIN:VEVENT
UID:4320450:Event:1103
DTSTAMP:20260425T115012Z
SUMMARY:Stoudt's Brewery Dinner
DESCRIPTION:Join Firecreek Restaurant for Stoudt’s Brewery Dinner ho
 sted by, none other than, Jodi Stoudt. For $65 enjoy a four-course mea
 l, accompanied by Stoudt’s finest beers and a half hour of hors d'oe
 uvres. Featured recipes include cornbread and prosciutto stuffed trout
 , honey glazed duck breast, and old-fashioned banana bread French toas
 t.\n\nFor more information visit http://phillytodo.com/events/stoudts-
 brewery-dinner
DTSTART:20100323T223000Z
DTEND:20100324T020000Z
CATEGORIES:dinner
LOCATION:Firecreek Restaurant
WEBSITE:
URL:
CONTACT:
ORGANIZER;CN="Lauren Wenzel":http://phillytodo.com/profile/JacklinRhoa
 ds
ATTACH;FMTTYPE="image/jpeg":http://storage.ning.com/topology/rest/1.0/
 file/get/3054945257?profile=original
ATTENDEE;ROLE=REQ-PARTICIPANT;PARTSTAT=ACCEPTED;RSVP=TRUE;CN="Lauren W
 enzel":http://phillytodo.com/profile/JacklinRhoads
END:VEVENT
END:VCALENDAR
