BEGIN:VCALENDAR
PRODID:NingEventWidget-v1
VERSION:2.0
METHOD:PUBLISH
BEGIN:VEVENT
UID:4320450:Event:60215
DTSTAMP:20260425T112539Z
SUMMARY:Story Time at Boscov's
DESCRIPTION:Gather around Boscov’s toy department and get lost in th
 e magic of a good book with fascinating stories and tales during Bosco
 v’s Story Time. Children of all ages and their parents/guardians are
  welcome to join us as we set off on our adventure. Coloring activitie
 s to follow! Weekly story time themes may vary by store. Please contac
 t your local store directly for more information.\n\nFor more informat
 ion visit http://phillytodo.com/events/story-time-at-boscov-s
DTSTART:20200307T190000Z
DTEND:20200307T200000Z
CATEGORIES:family, friendly, kids
LOCATION:Berkshire Mall
WEBSITE:
URL:
CONTACT:
ORGANIZER;CN=CashmanAssoc:http://phillytodo.com/profile/CashmanAssoc
ATTACH;FMTTYPE="image/jpeg":
ATTENDEE;ROLE=REQ-PARTICIPANT;PARTSTAT=ACCEPTED;RSVP=TRUE;CN=CashmanAs
 soc:http://phillytodo.com/profile/CashmanAssoc
END:VEVENT
END:VCALENDAR
