BEGIN:VCALENDAR
PRODID:NingEventWidget-v1
VERSION:2.0
METHOD:PUBLISH
BEGIN:VEVENT
UID:4320450:Event:35552
DTSTAMP:20260425T161151Z
SUMMARY:Stopping Distraction: An Urban Meditation Retreat
DESCRIPTION:If we want to succeed at work or at play we need a focused
  mind.  Lack of focus creates mistakes in our personal and work life.
   Come and learn special techniques to stop distraction and gain spir
 itual focus in your life, leading to the happiness you deserve.  This
  retreat will be led by Gen Tenzin, Buddhist monk and Resident Teacher
  of Amitayus Kadampa Buddhist Center.\n$5 per session\nSessions:\n11:0
 0-11:45am\n2:00-2:45pm\n4:00-4:45pm\n\nFor more information visit http
 ://phillytodo.com/events/stopping-distraction-an-urban-meditation-retr
 eat
DTSTART:20140308T160000Z
DTEND:20140308T214500Z
CATEGORIES:meditation, retreat, clarity, buddhism, buddhist
LOCATION:Amitayus Kadampa Buddhist Center
WEBSITE:http://meditationinphiladelphia.org
URL:http://meditationinphiladelphia.org
CONTACT:267-702-3817
ORGANIZER;CN="Education Program Coordinator":http://phillytodo.com/pro
 file/EducationProgramCoordinator
ATTACH;FMTTYPE="image/jpeg":
ATTENDEE;ROLE=REQ-PARTICIPANT;PARTSTAT=ACCEPTED;RSVP=TRUE;CN="Educatio
 n Program Coordinator":http://phillytodo.com/profile/EducationProgramC
 oordinator
END:VEVENT
END:VCALENDAR
