BEGIN:VCALENDAR
PRODID:NingEventWidget-v1
VERSION:2.0
METHOD:PUBLISH
BEGIN:VEVENT
UID:4320450:Event:3817
DTSTAMP:20260425T144246Z
SUMMARY:Still time to SAVe BIG on Photo Session GIFT CERTIFICATES!
DESCRIPTION:Give a gift that keeps giving!  Photos are fun and make a
  great gift idea.  Gift Certificates for a photo session combines, fu
 n with lasting memories preserved for years to come.  Everyone loves 
 photos and having a chance to work with a professional photographer fo
 r beautiful images is an experience that adds to the memory of creatin
 g them.  This is the perfect gift with many possible types and styles
  of finished images and products. Think about what a great gift a port
 rait, calendar, album or fold out mini brag book would make. Purchase 
 a memory for anyone on your gift list or even for your self!\n \nWhat
  sessions are popular right now?  Right now portraits and flirty sess
 ions are hot. Portraits make fantastic gifts for everyone from Grand p
 arents to boy friends or girl friends.  Flirty sassy sessions resulti
 ng in gift calendars or various size books are super hot right now.  
 How would your husband or boy friend like to get a calendar or book wi
 th flirty images of his lady?  You guessed it, a memorable sizzling h
 ot gift idea with tastefully done images.\n \nTake advantage of our s
 pecial pricing on session gift certificates and use them by the end of
  June 2011.  See previous post here on the holiday specials and then 
 go to our web site and use the contact us form for pricing and how to 
 purchase.  2daysphotos.com\n\nFor more information visit http://phill
 ytodo.com/events/still-time-to-save-big-on
DTSTART:20101213T230000Z
DTEND:20101224T000000Z
CATEGORIES:savings, sale, specials, photography
LOCATION:Warrington PA  18976
WEBSITE:http://www.2daysphotos.com
URL:http://www.2daysphotos.com
CONTACT:215-918-1281
ORGANIZER;CN="Rosemary Taglialatela":http://phillytodo.com/profile/Ros
 emary
ATTACH;FMTTYPE="image/jpeg":http://storage.ning.com/topology/rest/1.0/
 file/get/3054952805?profile=original
ATTENDEE;ROLE=REQ-PARTICIPANT;PARTSTAT=ACCEPTED;RSVP=TRUE;CN="Rosemary
  Taglialatela":http://phillytodo.com/profile/Rosemary
END:VEVENT
END:VCALENDAR
