BEGIN:VCALENDAR
PRODID:NingEventWidget-v1
VERSION:2.0
METHOD:PUBLISH
BEGIN:VEVENT
UID:4320450:Event:41467
DTSTAMP:20260425T142610Z
SUMMARY:Stephen Bruce: Phenomenal Metal Works
DESCRIPTION:Since he started showing his work June of 2006, Bruce’s 
 acid paintings have become a symbol of art and culture. They have been
  featured in over 20 TV shows and multiple movie sets including: House
 , Revenge, Big Bang Theory, Law & Order LA, Californication, Iron Man 
 3, Horrible Bosses, The Avengers, and The Social Network. Celebrate th
 e opening of this widely anticipated exhibit at The Bazemore Gallery. 
 For details visit, https://www.facebook.com/thebazemoregallery.\nDate:
  Saturday, September 12th 2015\nTime: 6:00 p.m. – 9:00 p.m.\nLocatio
 n: 4339 Main St, Philadelphia, PA 19127\nContact: Shana Saddic, shana@
 cashmanandassociates.com\n \n\nFor more information visit http://phil
 lytodo.com/events/stephen-bruce-phenomenal-metal-works
DTSTART:20150912T220000Z
DTEND:20150913T010000Z
CATEGORIES:art, exhibit
LOCATION:The Bazemore Gallery
WEBSITE:https://www.facebook.com/thebazemoregallery
URL:https://www.facebook.com/thebazemoregallery
CONTACT:215 627 1060
ORGANIZER;CN=CashmanAssoc:http://phillytodo.com/profile/CashmanAssoc
ATTACH;FMTTYPE="image/jpeg":http://storage.ning.com/topology/rest/1.0/
 file/get/3054989967?profile=original
ATTENDEE;ROLE=REQ-PARTICIPANT;PARTSTAT=ACCEPTED;RSVP=TRUE;CN=CashmanAs
 soc:http://phillytodo.com/profile/CashmanAssoc
END:VEVENT
END:VCALENDAR
