BEGIN:VCALENDAR
PRODID:NingEventWidget-v1
VERSION:2.0
METHOD:PUBLISH
BEGIN:VEVENT
UID:4320450:Event:43114
DTSTAMP:20260425T185651Z
SUMMARY:Stephen Bruce - Celebrity Artist Meet & Greet
DESCRIPTION:Please join us Saturday, October 24, 2015, from 4-8pm for 
 a Celebrity Artist Meet & Greet. Come meet Celebrity California Artist
  Stephen Bruce and see his 2015 acid painting collection. On Sunday, 
 October 25, 2015, at 1pm Stephen Bruce will be giving an art talk on C
 reativity -The nexus of Art &Science. Come learn about his artistic ba
 ckground and creative process. About Stephen Bruce: http://www.steph
 enbstudios.com/about/ Stephen's acid paintings on copper have already
  been seen in over 20 TV shows, such as (House, Revenge, Big Bang Theo
 ry, Law & Order LA, Californication) and movie sets (Iron Man 3, Horri
 ble Bosses, The Avengers and The Social Network). We hope to see you 
 all there!\n\nFor more information visit http://phillytodo.com/events/
 stephen-bruce-celebrity-artist-meet-greet
DTSTART:20151024T200000Z
DTEND:20151025T000000Z
CATEGORIES:meet, "&", greet
LOCATION:The Bazemore Gallery
WEBSITE:https://www.facebook.com/events/170367283305590/
URL:https://www.facebook.com/events/170367283305590/
CONTACT:
ORGANIZER;CN=CashmanAssoc:http://phillytodo.com/profile/CashmanAssoc
ATTACH;FMTTYPE="image/jpeg":http://storage.ning.com/topology/rest/1.0/
 file/get/3054995239?profile=original
ATTENDEE;ROLE=REQ-PARTICIPANT;PARTSTAT=ACCEPTED;RSVP=TRUE;CN=CashmanAs
 soc:http://phillytodo.com/profile/CashmanAssoc
END:VEVENT
END:VCALENDAR
