BEGIN:VCALENDAR
PRODID:NingEventWidget-v1
VERSION:2.0
METHOD:PUBLISH
BEGIN:VEVENT
UID:4320450:Event:59409
DTSTAMP:20260425T125012Z
SUMMARY:Stephanie Kantor: Rosewater
DESCRIPTION:Kantor says that she is drawn to the ocean as a meditative
  and mysterious place. She researches ancient stories, mythologies, an
 d the contemporary culture that surrounds beach towns and vacation des
 tinations to drive this body of work. With a playful and humorous appr
 oach, Kantor makes sculptures and paintings that explore the desire to
  be surrounded by water and emphasize the mundane objects that embody 
 that experience.\n\nFor more information visit http://phillytodo.com/e
 vents/stephanie-kantor-rosewater
DTSTART:20191123T160000Z
DTEND:20200105T230000Z
CATEGORIES:art, exhibition
LOCATION:Reed + Smith Gallery, Clay Studio
WEBSITE:http://www.theclaystudio.org
URL:http://www.theclaystudio.org
CONTACT:215-867-8060
ORGANIZER;CN="Bryan Chan":http://phillytodo.com/profile/BryanChan
ATTACH;FMTTYPE="image/jpeg":https://storage.ning.com/topology/rest/1.0
 /file/get/3696945430?profile=original
ATTENDEE;ROLE=REQ-PARTICIPANT;PARTSTAT=ACCEPTED;RSVP=TRUE;CN="Bryan Ch
 an":http://phillytodo.com/profile/BryanChan
END:VEVENT
END:VCALENDAR
