BEGIN:VCALENDAR
PRODID:NingEventWidget-v1
VERSION:2.0
METHOD:PUBLISH
BEGIN:VEVENT
UID:4320450:Event:626
DTSTAMP:20260425T173559Z
SUMMARY:Start of Something Good Party at Club ONE
DESCRIPTION:Party it up with me and my friends over at Club ONE\n\nFor
  more information visit http://phillytodo.com/events/start-of-somethin
 g-good-party
DTSTART:20100109T030000Z
DTEND:20100109T080000Z
CATEGORIES:party
LOCATION:121.S 19TH ST (19TH AND SANSOM )
WEBSITE:
URL:
CONTACT:
ORGANIZER;CN="Dior Novello":http://phillytodo.com/profile/DiorNovello
ATTACH;FMTTYPE="image/jpeg":http://storage.ning.com/topology/rest/1.0/
 file/get/2990816416?profile=original
ATTENDEE;ROLE=REQ-PARTICIPANT;PARTSTAT=ACCEPTED;RSVP=TRUE;CN="Dior Nov
 ello":http://phillytodo.com/profile/DiorNovello
END:VEVENT
END:VCALENDAR
